BEGIN:VCALENDAR
VERSION:2.0
PRODID:-//Squarespace Inc/Squarespace 6//v6//EN
BEGIN:VEVENT
UID:5c3feebe2b6a2851985cbd29@squarespace.com
DTSTAMP:20190224T225328Z
DTSTART:20190303T013000Z
DTEND:20190303T023000Z
SUMMARY:Church AGM 
END:VEVENT
END:VCALENDAR
