BEGIN:VCALENDAR
VERSION:2.0
PRODID:-//Squarespace Inc/Squarespace 6//v6//EN
BEGIN:VEVENT
UID:5cd7f264e79c70f32424f9fd@squarespace.com
DTSTAMP:20190808T041211Z
DTSTART:20190818T040000Z
DTEND:20190818T050000Z
SUMMARY:The Bible in an Hour (for Women)
END:VEVENT
END:VCALENDAR
