BEGIN:VCALENDAR
VERSION:2.0
PRODID:-//Squarespace Inc/Squarespace 6//v6//EN
BEGIN:VEVENT
UID:5bcd9793e5e5f0b9fb0d810c@squarespace.com
DTSTAMP:20181118T221651Z
DTSTART:20181224T093000Z
DTEND:20181225T103000Z
SUMMARY:Christmas Celebrations
GEO:-34.065496;151.008052
LOCATION:Engadine Anglican\, Waratah Road\, Engadine\, NSW\, 2233\, Austral
 ia
END:VEVENT
END:VCALENDAR
