BEGIN:VCALENDAR
VERSION:2.0
PRODID:-//Squarespace Inc/Squarespace 6//v6//EN
BEGIN:VEVENT
UID:5c13317e4fa51a4ff98ae3ef@squarespace.com
DTSTAMP:20190216T050103Z
DTSTART:20190130T083000Z
DTEND:20190309T093000Z
SUMMARY:Colossians Series
END:VEVENT
END:VCALENDAR
