BEGIN:VCALENDAR
VERSION:2.0
PRODID:-//Squarespace Inc/Squarespace 6//v6//EN
BEGIN:VEVENT
UID:5c13330803ce642c80e1daab@squarespace.com
DTSTAMP:20190603T072344Z
DTSTART:20190621T230000Z
DTEND:20190622T100000Z
SUMMARY:EQUIP Women's Conference
END:VEVENT
END:VCALENDAR
