BEGIN:VCALENDAR
VERSION:2.0
PRODID:-//Squarespace Inc/Squarespace 6//v6//EN
BEGIN:VEVENT
UID:5d4b6099d01eac0001335de5@squarespace.com
DTSTAMP:20190808T021138Z
DTSTART:20191008T220000Z
DTEND:20191011T013000Z
SUMMARY:Holiday Club for Kids
END:VEVENT
END:VCALENDAR
