BEGIN:VCALENDAR
VERSION:2.0
PRODID:-//Squarespace Inc/Squarespace 6//v6//EN
BEGIN:VEVENT
UID:5bcd8f99eef1a115dd9c4810@squarespace.com
DTSTAMP:20191210T073047Z
DTSTART:20190118T060000Z
DTEND:20190120T070000Z
SUMMARY:Leader's Weekend Away
GEO:-34.225035;150.969378
LOCATION:Stanwell Tops Conference Center\, 51 Bendena Gardens\, Stanwell To
 ps\, NSW\, 2508\, Australia
END:VEVENT
END:VCALENDAR
