BEGIN:VCALENDAR
VERSION:2.0
PRODID:-//Squarespace Inc/Squarespace 6//v6//EN
BEGIN:VEVENT
UID:5d57cbcd387e710001db4a61@squarespace.com
DTSTAMP:20191014T053724Z
DTSTART:20190831T230000Z
DTEND:20191013T000000Z
SUMMARY:Living in the Last Days (Term 3)
END:VEVENT
END:VCALENDAR
