BEGIN:VCALENDAR
VERSION:2.0
PRODID:-//Squarespace Inc/Squarespace 6//v6//EN
BEGIN:VEVENT
UID:5cb2a42724a69448721f1bad@squarespace.com
DTSTAMP:20190714T031514Z
DTSTART:20190713T210000Z
DTEND:20190831T220000Z
SUMMARY:Mark Series (Term 3)
END:VEVENT
END:VCALENDAR
