BEGIN:VCALENDAR
VERSION:2.0
PRODID:-//Squarespace Inc/Squarespace 6//v6//EN
BEGIN:VEVENT
UID:5ae928841ae6cfded2bbcf29@squarespace.com
DTSTAMP:20190517T064555Z
DTSTART:20180720T070000Z
DTEND:20180722T060000Z
SUMMARY:Night Church Weekend Away
GEO:-34.075097;151.098599
LOCATION:Youth Works\, 1 Rathane Road\, Royal National Park\, NSW\, 2232\, 
 Australia
END:VEVENT
END:VCALENDAR
