BEGIN:VCALENDAR
VERSION:2.0
PRODID:-//Squarespace Inc/Squarespace 6//v6//EN
BEGIN:VEVENT
UID:5cde58416feef300013b0bc0@squarespace.com
DTSTAMP:20190705T004702Z
DTSTART:20190705T070000Z
DTEND:20190707T060000Z
SUMMARY:Night Church Weekend Away
GEO:-34.075097;151.098599
LOCATION:Youth Works\, 1 Rathane Road\, Royal National Park\, NSW\, 2232\, 
 Australia
END:VEVENT
END:VCALENDAR
