BEGIN:VCALENDAR
VERSION:2.0
PRODID:-//Squarespace Inc/Squarespace 6//v6//EN
BEGIN:VEVENT
UID:5c945d10971a18694a1e5087@squarespace.com
DTSTAMP:20190822T033209Z
DTSTART:20190830T230000Z
DTEND:20190831T050000Z
SUMMARY:Parenting Seminar
END:VEVENT
END:VCALENDAR
