BEGIN:VCALENDAR
VERSION:2.0
PRODID:-//Squarespace Inc/Squarespace 6//v6//EN
BEGIN:VEVENT
UID:5c804e5a0d92975964ea3314@squarespace.com
DTSTAMP:20190306T225316Z
DTSTART:20190428T230000Z
DTEND:20190429T050000Z
SUMMARY:Kids Pupil Free Day
GEO:-34.064523;151.012708
LOCATION:Engadine Anglican\, 4 Waratah Road\, Engadine\, NSW\, 2233\, Austr
 alia
END:VEVENT
END:VCALENDAR
