BEGIN:VCALENDAR
VERSION:2.0
PRODID:-//Squarespace Inc/Squarespace 6//v6//EN
BEGIN:VEVENT
UID:5c13336f1ae6cf146b19f139@squarespace.com
DTSTAMP:20190523T005104Z
DTSTART:20190709T033000Z
DTEND:20190712T070000Z
SUMMARY:Winter Soccer Camp
END:VEVENT
END:VCALENDAR
