BEGIN:VCALENDAR
VERSION:2.0
PRODID:-//Squarespace Inc/Squarespace 6//v6//EN
BEGIN:VEVENT
UID:5c458b8c03ce64e2d20fb893@squarespace.com
DTSTAMP:20190729T010629Z
DTSTART:20190810T090000Z
DTEND:20190810T110000Z
SUMMARY:Women's Dinner
END:VEVENT
END:VCALENDAR
