BEGIN:VCALENDAR
VERSION:2.0
PRODID:-//Squarespace Inc/Squarespace 6//v6//EN
BEGIN:VEVENT
UID:5c450ffcc2241ba6b944f5bc@squarespace.com
DTSTAMP:20190309T211501Z
DTSTART:20190310T030000Z
DTEND:20190310T050000Z
SUMMARY:Women's Build Up Arvo
END:VEVENT
END:VCALENDAR
